BEGIN:VCALENDAR
VERSION:2.0
PRODID:-//Squarespace Inc/Squarespace 6//v6//EN
BEGIN:VEVENT
UID:58e70596414fb5b5777f69b7@squarespace.com
DTSTAMP:20170407T032626Z
DTSTART:20170519T230000Z
DTEND:20170520T010000Z
SUMMARY:Clothes Swap
GEO:-39.056744;174.075962
LOCATION:Senior Citizens Hall\, 27-33 Liardet Street\, New Plymouth\, Taran
 aki\, 4310\, New Zealand
END:VEVENT
END:VCALENDAR
