BEGIN:VCALENDAR
VERSION:2.0
PRODID:-//Squarespace Inc/Squarespace 6//v6//EN
BEGIN:VEVENT
UID:58a3f8b986e6c075a7110d5e@squarespace.com
DTSTAMP:20170215T065553Z
DTSTART:20170217T070000Z
DTEND:20170217T080000Z
SUMMARY:Dance Dance Party Party
GEO:-39.059275;174.071686
LOCATION:Alchemy Yoga & Wellbeing\, Level 1\, 74 Powderham St\, New Plymout
 h\, New Zealand
END:VEVENT
END:VCALENDAR
