BEGIN:VCALENDAR
VERSION:2.0
PRODID:-//Squarespace Inc/Squarespace 6//v6//EN
BEGIN:VEVENT
UID:58534968e3df28f58aa067f5@squarespace.com
DTSTAMP:20170106T184624Z
DTSTART:20170127T200000Z
DTEND:20170128T030000Z
SUMMARY:Goals with Soul – Desire Map Level 1
GEO:-39.055625;174.075228
LOCATION:New Plymouth\, New Zealand
END:VEVENT
END:VCALENDAR
