BEGIN:VCALENDAR
VERSION:2.0
PRODID:-//Squarespace Inc/Squarespace 6//v6//EN
BEGIN:VEVENT
UID:5805cf66197aea572d7f999f@squarespace.com
DTSTAMP:20161018T081352Z
DTSTART:20161118T200000Z
DTEND:20161119T030000Z
SUMMARY:Desire Map Workshop Level 1
END:VEVENT
END:VCALENDAR
